BEGIN:VCALENDAR
VERSION:2.0
PRODID:-//NLP Training - ECPv6.15.18//NONSGML v1.0//EN
CALSCALE:GREGORIAN
METHOD:PUBLISH
X-ORIGINAL-URL:https://trainings.nlp.com
X-WR-CALDESC:Events for NLP Training
REFRESH-INTERVAL;VALUE=DURATION:PT1H
X-Robots-Tag:noindex
X-PUBLISHED-TTL:PT1H
BEGIN:VTIMEZONE
TZID:UTC
BEGIN:STANDARD
TZOFFSETFROM:+0000
TZOFFSETTO:+0000
TZNAME:UTC
DTSTART:20230101T000000
END:STANDARD
END:VTIMEZONE
BEGIN:VEVENT
DTSTART;TZID=UTC:20251211T083000
DTEND;TZID=UTC:20251214T200000
DTSTAMP:20260421T102901
CREATED:20250428T003955Z
LAST-MODIFIED:20250428T162337Z
UID:10000037-1765441800-1765742400@trainings.nlp.com
SUMMARY:LIVE + VIRTUAL - Integrative NLP Practitioner Certification® Training
DESCRIPTION:LIVE + VIRTUAL\nwith Dr. Matt James\n\n\n			\n				\n				\n				\n				\n				Integrative NLP\nPractitioner Certification® Training\n			\n				\n				\n				\n				\n				December 11-14\, 2025\n			\n			\n				\n				\n				\n				\n			\n				\n				\n				\n				\n				\n				\n				Register Now $394\n			\n			\n				\n				\n				\n				\n				\n				\n				\n				\n				\n				$5250 Value\n			\n			\n				\n				\n				\n				\n				\n			\n				\n				\n				\n				\n			\n				\n				\n			\n				\n				\n				\n				\n				\n				\n				\n				\n				\n				\n				\n				\n				\n				\n				\n				\n				\n				\n					\n					\n						\n						 DATE\nDecember 10: Virtual Kick Off\nDecember 11: Virtual Training\n					\n				\n			\n			\n				\n				\n				\n				\n				\n				\n				\n				\n				\n				\n					\n					\n						\n						LOCATION\nThis training is 100% Virtual\n					\n				\n			\n			\n				\n				\n				\n				\n				\n				\n				\n				\n				\n				\n					\n					\n						\n						TIMES\nVirtual Kick Off:\nWed at 5:00pm – 5:30pm Pacific \nThursday-Sunday Trainings:\nLogin 8:30am – 9:00am Pacific\nVirtual Training 9:00am – 8:00pm Pacific \n  \n					\n				\n			\n			\n				\n				\n				\n				\n			\n				\n				\n			\n				\n				\n				\n				\n				\n				\n				\n				\n				\n				\n				\n				\n				\n				\n				\n				\n				\n				About This Event\n			\n				\n				\n				\n				\n				\n			\n				\n				\n				\n				\n				Described as a user manual for your conscious and unconscious mind\, neuro-linguistic programming is used by many successful people to bring about immediate and effective changes in life. Now\, Dr. Matt of Empowerment\, Inc. aims to equip the masses with these exceptional skills.\n			\n				\n				\n				\n				\n				Share this event: \n\n			\n			\n				\n				\n				\n				\n				\n				\n				\n				\n				\n				Live + Virtual\n			\n				\n				\n				\n				\n				\n			\n				\n				\n				\n				\n				\n\n This is not your typical Virtual Event! \n As a student of the virtual training\, you will also be a part of a Live Event happening concurrently in Newport Beach\, CA. \nAt the Integrative NLP Practitioner Certification® Live + Virtual Training\, you’ll receive hands-on training\, demonstrations\, tools and techniques\, and an action plan to put into practice as a certified practitioner following the sessions. Speakers are subject to change. \n\n\n			\n			\n				\n				\n				\n				\n			\n				\n				\n			\n				\n				\n				\n				\n				\n				\n				\n				\n				\n				\n				\n				\n				\n				\n				\n				\n				\n				\n			\n				Register Now $394\n			\n			\n				\n				\n				\n				\n				\n				\n				\n				\n				\n				What You’ll Receive\n			\n				\n				\n				\n				\n				\n			\n				\n				\n				\n				\n				At the Integrative NLP Practitioner Certification® Training\, you’ll receive hands-on training\, demonstrations\, tools and techniques\, and an action plan to put into practice as a certified practitioner following the sessions. Best of all\, sessions are backed by our 100%‑satisfaction guarantee. Speakers subject to change.\n			\n				\n				\n				\n				\n				\n					\n					\n						\n						NLP Training Course Material ($895 value for free)\n					\n				\n			\n				\n				\n				\n				\n				\n					\n					\n						\n						NLP Practitioner 45 MP3 Audio Collection ($375 value for free)*\n					\n				\n			\n				\n				\n				\n				\n				\n					\n					\n						\n						A Journey on the Timeline MP3 Audio ($25 value for free)*\n					\n				\n			\n				\n				\n				\n				\n				\n					\n					\n						\n						NLP Techniques Demo MP4 Videos ($30 value for free)*\n					\n				\n			\n				\n				\n				\n				\n				\n					\n					\n						\n						30-Step Action Plan ($175 value for free)*\n					\n				\n			\n				\n				\n				\n				\n				\n					\n					\n						\n						Access to our NLP Practitioner Alumni Facebook Community*\n					\n				\n			\n				\n				\n				\n				\n				\n					\n					\n						\n						*Available 5 days after training\n					\n				\n			\n				Register Now $294\n			\n			\n				\n				\n				\n				\n			\n				\n				\n			\n				\n				\n				\n				\n				\n				\n				\n				\n				\n				\n				\n				\n				\n				\n				\n				\n				\n				Your Trainers\n			\n				\n				\n				\n				\n				\n			\n			\n				\n				\n				\n				\n			\n				\n				\n				\n				\n				\n				\n				\n				\n				\n				\n				\n					\n					\n						\n						Dr. Matt James\nMaster Trainer of NLP; MA\, Organizational Management; PhD\, Integrative Health Psychology \nTrainer(s) are subject to change.\n					\n				\n			\n				\n				\n				\n				\n				Trainer's Bio\n				\n\n\n\n\nDr Matt James\, Owner of Empowerment\, Inc.\, embodies the principles he teaches. While devoting himself to the integrity of his spiritual path\, Dr. Matt has built an international firm dedicated to personal transformation\, authored several books\, and trained thousands of students every year in mastery of the four bodies of empowerment with the support of his team of expert trainers. Throughout his work\, Dr. Matt weaves effective modern technologies with the timeless wisdom of ancient spiritual paths. \nDr. Matt began meditating at the age of five\, and through his childhood learned spiritual practices directly from such teachers as Baba Muktananda. He also studied Huna\, the original science of consciousness of the Hawaiian Islands\, from Uncle George Na’ope who was honored as one of Hawaii’s Golden Living Treasures. Dr. Matt received the gift of carrying on one of the ancient lineages of Huna\, the Bray Family lineage\, from Hawaiian elders. \n\n\n\n\n\n			\n			\n				\n				\n				\n				\n			\n				\n				\n				\n				\n				\n				\n				Register Now $394\n			\n			\n				\n				\n				\n				\n			\n				\n				\n				\n				\n				\n				\n			\n				\n				\n				\n				\n			\n				\n				\n			\n				\n				\n				\n				\n				\n				\n				\n				\n				\n				\n				\n				\n				\n				\n				\n				\n				\n				Questions?\n			\n				\n				\n				\n				\n				\n			\n			\n				\n				\n				\n				\n			\n				\n				\n				\n				\n				\n				\n				\n				\n				\n				\n				What are the technical requirements?\n				\n1) A strong internet connection \n2) A laptop or desktop computer with camera and microphone abilities (You will be required to be in conversation with other students during exercises.) \n3) Ability to login to Zoom \n\n			\n				\n				\n				\n				\n				How do I get certified?\n				\n\n\n\nTo qualify for certification\, you must be in attendance for the entire Virtual Integrative NLP Practitioner Certification Training. Upon completion of the training\, students will be emailed a link with the NLP Certification Test\, a 30-Step Action Plan\, and certifying board information. Once the test and 30-Step Action Plan has been completed\, it will need to be submitted directly to the certifying board\, the Association for Integrative Psychology (AIP)\, along with your certification fee of $125 USD.\n\n\n\n\n			\n			\n				\n				\n				\n				\n				\n				\n				\n				\n				\n				What's the training schedule?\n				\nAll times listed are in local time (exact Time Zone TBD): \nThursday\, Date TBD: Day 1\n8:30 am to 9:00 am – Login\n9:00 am to 8:00 pm – Virtual Training \nFriday\, Date TBD: Day 2\n8:45 am to 9:00 am – Login*\n9:00 am to 8:00 pm – Virtual Training \nSaturday\, Date TBD: Day 3\n8:45 am to 9:00 am – Login*\n9:00 am to 8:00 pm – Virtual Training \nSunday\, Date TBD: Day 4\n8:45 am to 9:00 am – Login*\n9:00 am to 8:00 pm – Virtual Training \n*Please arrange your schedule to be available at 8:30 am each morning as you may need to arrive early for additional technology guidance. \n\n			\n				\n				\n				\n				\n				Will I receive a manual?\n				\nAbsolutely! You will receive a digital copy of the full manual. \nThe trainers will be referring to the manual often\, and you will need to access it easily for exercises. To ensure the best possible experience for you and all students\, you are required to print the manual before the technical test on Wednesday and show it to the camera.
URL:https://trainings.nlp.com/training-schedule/live-virtual-integrative-nlp-practitioner-certification-training/
LOCATION:LIVE + VIRTUAL with Dr. Matt James
ATTACH;FMTTYPE=image/jpeg:https://trainings.nlp.com/wp-content/uploads/2024/01/NLP_header_21.jpg
END:VEVENT
BEGIN:VEVENT
DTSTART;TZID=UTC:20241205T083000
DTEND;TZID=UTC:20241208T200000
DTSTAMP:20260421T102902
CREATED:20240525T085734Z
LAST-MODIFIED:20250207T212347Z
UID:10000020-1733387400-1733688000@trainings.nlp.com
SUMMARY:LIVE + VIRTUAL - Integrative NLP Practitioner Certification®
DESCRIPTION:LIVE + VIRTUAL\nwith Dr. Matt James\n\n\n			\n				\n				\n				\n				\n				Integrative NLPPractitioner Certification® Training\n			\n				\n				\n				\n				\n				December 5 – 8\, 2024\n			\n			\n				\n				\n				\n				\n			\n				\n				\n				\n				\n				\n				\n				Register Now $394\n			\n			\n				\n				\n				\n				\n				\n				\n				\n				\n				\n				$5250 Value\n			\n			\n				\n				\n				\n				\n				\n			\n				\n				\n				\n				\n			\n				\n				\n			\n				\n				\n				\n				\n				\n				\n				\n				\n				\n				\n				\n				\n				\n				\n				\n				\n				\n				\n					\n					\n						\n						 DATE\nDecember 4: Virtual Kick Off\nDecember 5: Virtual Training\n					\n				\n			\n			\n				\n				\n				\n				\n				\n				\n				\n				\n				\n				\n					\n					\n						\n						LOCATION\nThis training is 100% Virtual\n					\n				\n			\n			\n				\n				\n				\n				\n				\n				\n				\n				\n				\n				\n					\n					\n						\n						TIMES\nVirtual Kick Off:\nWed at 5:00pm – 5:30pm Pacific \nThursday-Sunday Trainings:\nLogin 8:30am – 9:00am PacificVirtual Training 9:00am – 8:00pm Pacific \n  \n					\n				\n			\n			\n				\n				\n				\n				\n			\n				\n				\n			\n				\n				\n				\n				\n				\n				\n				\n				\n				\n				\n				\n				\n				\n				\n				\n				\n				\n				About This Event\n			\n				\n				\n				\n				\n				\n			\n				\n				\n				\n				\n				Described as a user manual for your conscious and unconscious mind\, neuro-linguistic programming is used by many successful people to bring about immediate and effective changes in life. Now\, Dr. Matt of Empowerment\, Inc. aims to equip the masses with these exceptional skills.\n			\n				\n				\n				\n				\n				Share this event: \n\n			\n			\n				\n				\n				\n				\n				\n				\n				\n				\n				\n				Live + Virtual\n			\n				\n				\n				\n				\n				\n			\n				\n				\n				\n				\n				\n\n This is not your typical Virtual Event! \n As a student of the virtual training\, you will also be a part of a Live Event happening concurrently in Newport Beach\, CA. \nAt the Integrative NLP Practitioner Certification® Live + Virtual Training\, you’ll receive hands-on training\, demonstrations\, tools and techniques\, and an action plan to put into practice as a certified practitioner following the sessions. Speakers are subject to change. \n\n\n			\n			\n				\n				\n				\n				\n			\n				\n				\n			\n				\n				\n				\n				\n				\n				\n				\n				\n				\n				\n				\n				\n				\n				\n				\n				\n				\n				\n			\n				Register Now $394\n			\n			\n				\n				\n				\n				\n				\n				\n				\n				\n				\n				What You’ll Receive\n			\n				\n				\n				\n				\n				\n			\n				\n				\n				\n				\n				At the Integrative NLP Practitioner Certification® Training\, you’ll receive hands-on training\, demonstrations\, tools and techniques\, and an action plan to put into practice as a certified practitioner following the sessions. Best of all\, sessions are backed by our 100%‑satisfaction guarantee. Speakers subject to change.\n			\n				\n				\n				\n				\n				\n					\n					\n						\n						NLP Training Course Material ($895 value for free)\n					\n				\n			\n				\n				\n				\n				\n				\n					\n					\n						\n						NLP Practitioner 45 MP3 Audio Collection ($375 value for free)*\n					\n				\n			\n				\n				\n				\n				\n				\n					\n					\n						\n						A Journey on the Timeline MP3 Audio ($25 value for free)*\n					\n				\n			\n				\n				\n				\n				\n				\n					\n					\n						\n						NLP Techniques Demo MP4 Videos ($30 value for free)*\n					\n				\n			\n				\n				\n				\n				\n				\n					\n					\n						\n						30-Step Action Plan ($175 value for free)*\n					\n				\n			\n				\n				\n				\n				\n				\n					\n					\n						\n						Access to our NLP Practitioner Alumni Facebook Community*\n					\n				\n			\n				\n				\n				\n				\n				\n					\n					\n						\n						*Available 5 days after training\n					\n				\n			\n				Register Now $294\n			\n			\n				\n				\n				\n				\n			\n				\n				\n			\n				\n				\n				\n				\n				\n				\n				\n				\n				\n				\n				\n				\n				\n				\n				\n				\n				\n				Your Trainers\n			\n				\n				\n				\n				\n				\n			\n			\n				\n				\n				\n				\n			\n				\n				\n				\n				\n				\n				\n				\n				\n				\n				\n				\n					\n					\n						\n						Dr. Matt James\nMaster Trainer of NLP; MA\, Organizational Management; PhD\, Integrative Health Psychology \nTrainer(s) are subject to change.\n					\n				\n			\n				\n				\n				\n				\n				Trainer's Bio\n				\n\n\n\n\nDr Matt James\, Owner of Empowerment\, Inc.\, embodies the principles he teaches. While devoting himself to the integrity of his spiritual path\, Dr. Matt has built an international firm dedicated to personal transformation\, authored several books\, and trained thousands of students every year in mastery of the four bodies of empowerment with the support of his team of expert trainers. Throughout his work\, Dr. Matt weaves effective modern technologies with the timeless wisdom of ancient spiritual paths. \nDr. Matt began meditating at the age of five\, and through his childhood learned spiritual practices directly from such teachers as Baba Muktananda. He also studied Huna\, the original science of consciousness of the Hawaiian Islands\, from Uncle George Na’ope who was honored as one of Hawaii’s Golden Living Treasures. Dr. Matt received the gift of carrying on one of the ancient lineages of Huna\, the Bray Family lineage\, from Hawaiian elders. \n\n\n\n\n\n			\n			\n				\n				\n				\n				\n			\n				\n				\n				\n				\n				\n				\n				Register Now $394\n			\n			\n				\n				\n				\n				\n			\n				\n				\n				\n				\n				\n				\n			\n				\n				\n				\n				\n			\n				\n				\n			\n				\n				\n				\n				\n				\n				\n				\n				\n				\n				\n				\n				\n				\n				\n				\n				\n				\n				Questions?\n			\n				\n				\n				\n				\n				\n			\n			\n				\n				\n				\n				\n			\n				\n				\n				\n				\n				\n				\n				\n				\n				\n				\n				What are the technical requirements?\n				\n1) A strong internet connection \n2) A laptop or desktop computer with camera and microphone abilities (You will be required to be in conversation with other students during exercises.) \n3) Ability to login to Zoom \n\n			\n				\n				\n				\n				\n				How do I get certified?\n				\n\n\n\nTo qualify for certification\, you must be in attendance for the entire Virtual Integrative NLP Practitioner Certification Training. Upon completion of the training\, students will be emailed a link with the NLP Certification Test\, a 30-Step Action Plan\, and certifying board information. Once the test and 30-Step Action Plan has been completed\, it will need to be submitted directly to the certifying board\, the Association for Integrative Psychology (AIP)\, along with your certification fee of $125 USD.\n\n\n\n\n			\n			\n				\n				\n				\n				\n				\n				\n				\n				\n				\n				What's the training schedule?\n				\nAll times listed are in local time (exact Time Zone TBD): \nThursday\, Date TBD: Day 18:30 am to 9:00 am – Login9:00 am to 8:00 pm – Virtual Training \nFriday\, Date TBD: Day 28:45 am to 9:00 am – Login*9:00 am to 8:00 pm – Virtual Training \nSaturday\, Date TBD: Day 38:45 am to 9:00 am – Login*9:00 am to 8:00 pm – Virtual Training \nSunday\, Date TBD: Day 48:45 am to 9:00 am – Login*9:00 am to 8:00 pm – Virtual Training \n*Please arrange your schedule to be available at 8:30 am each morning as you may need to arrive early for additional technology guidance. \n\n			\n				\n				\n				\n				\n				Will I receive a manual?\n				\nAbsolutely! You will receive a digital copy of the full manual. \nThe trainers will be referring to the manual often\, and you will need to access it easily for exercises. To ensure the best possible experience for you and all students\, you are required to print the manual before the technical test on Wednesday and show it to the camera.
URL:https://trainings.nlp.com/training-schedule/live-virtual-inlp-practitioner-certification/
LOCATION:LIVE + VIRTUAL with Dr. Matt James
ATTACH;FMTTYPE=image/jpeg:https://trainings.nlp.com/wp-content/uploads/2024/01/NLP_header_21.jpg
END:VEVENT
BEGIN:VEVENT
DTSTART;TZID=UTC:20240425T083000
DTEND;TZID=UTC:20240428T200000
DTSTAMP:20260421T102902
CREATED:20240127T062351Z
LAST-MODIFIED:20240507T112003Z
UID:10000006-1714033800-1714334400@trainings.nlp.com
SUMMARY:Live+Virtual iNLP Practitioner Certification®
DESCRIPTION:LIVE + VIRTUAL with Dr. Matt James\n			\n				\n				\n				\n				\n				Integrative NLP Practitioner Certification®\n			\n				\n				\n				\n				\n				April 25 – 28\, 2024\n			\n			\n				\n				\n				\n				\n			\n				\n				\n				\n				\n				\n				\n				Register Now $394\n			\n			\n				\n				\n				\n				\n				\n				\n				\n				\n				\n				$5250 Value\n			\n			\n				\n				\n				\n				\n				\n			\n				\n				\n				\n				\n			\n				\n				\n			\n				\n				\n				\n				\n				\n				\n				\n				\n				\n				\n				\n				\n				\n				\n				\n				\n				\n				\n					\n					\n						\n						 DATE\nApril 24: Virtual Kick Off\nApril 25: Virtual Training \n					\n				\n			\n			\n				\n				\n				\n				\n				\n				\n				\n				\n				\n				\n					\n					\n						\n						LOCATION\nThis training is 100% Virtual\n					\n				\n			\n			\n				\n				\n				\n				\n				\n				\n				\n				\n				\n				\n					\n					\n						\n						TIMES\nVirtual Kick Off:\nWed at 5:00pm – 5:30pm Central \nThursday-Sunday Trainings:\nLogin 8:30am – 9:00am Central  Virtual Training 9:00am – 8:00pm Central\n					\n				\n			\n			\n				\n				\n				\n				\n			\n				\n				\n			\n				\n				\n				\n				\n				\n				\n				\n				\n				\n				\n				\n				\n				\n				\n				\n				\n				\n				About This Event\n			\n				\n				\n				\n				\n				\n			\n				\n				\n				\n				\n				Described as a user manual for your conscious and unconscious mind\, neuro-linguistic programming is used by many successful people to bring about immediate and effective changes in life. Now\, Dr. Matt of Empowerment\, Inc. aims to equip the masses with these exceptional skills.\n			\n				\n				\n				\n				\n				Share this event:\n\n			\n			\n				\n				\n				\n				\n				\n				\n				\n				\n				\n				Live + Virtual\n\n			\n				\n				\n				\n				\n				\n			\n				\n				\n				\n				\n				 This is not your typical Virtual Event! \n As a student of the virtual training\, you will also be a part of a Live Event happening concurrently in Houston\, TX. \nAt the Integrative NLP Practitioner Certification® Live + Virtual Training\, you’ll receive hands-on training\, demonstrations\, tools and techniques\, and an action plan to put into practice as a certified practitioner following the sessions. Speakers are subject to change. \n			\n			\n				\n				\n				\n				\n			\n				\n				\n			\n				\n				\n				\n				\n				\n				\n				\n				\n				\n				\n				\n				\n				\n				\n				\n				\n				\n				\n			\n				Register Now $394\n			\n			\n				\n				\n				\n				\n				\n				\n				\n				\n				\n				What You’ll Receive\n\n			\n				\n				\n				\n				\n				\n			\n				\n				\n				\n				\n				At the Integrative NLP Practitioner Certification® Training Live + Virtual\, you’ll receive hands-on training\, demonstrations\, tools and techniques\, and an action plan to put into practice as a certified practitioner following the sessions. Plus as a student of the Live + Virtual training\, you’ll also receive extra bonuses. \n			\n				\n				\n				\n				\n				\n					\n					\n						\n						NLP Training Course Material ($895 value for free)\n					\n				\n			\n				\n				\n				\n				\n				\n					\n					\n						\n						NLP Practitioner 45 MP3 Audio Collection ($375 value for free)*\n					\n				\n			\n				\n				\n				\n				\n				\n					\n					\n						\n						A Journey on the Timeline MP3 Audio ($25 value for free)*\n					\n				\n			\n				\n				\n				\n				\n				\n					\n					\n						\n						NLP Techniques Demo MP4 Videos ($30 value for free)*\n					\n				\n			\n				\n				\n				\n				\n				\n					\n					\n						\n						30-Step Action Plan ($175 value for free)*\n					\n				\n			\n				\n				\n				\n				\n				\n					\n					\n						\n						Access to our NLP Practitioner Alumni Facebook Community*\n					\n				\n			\n				\n				\n				\n				\n				\n					\n					\n						\n						Virtual Bonus #1: Free 6-month access to Empowered Membership*\n					\n				\n			\n				\n				\n				\n				\n				\n					\n					\n						\n						Virtual Bonus #2: Free access to the Integrative NLP Online Course*\n					\n				\n			\n				\n				\n				\n				\n				\n					\n					\n						\n						Virtual Bonus #3: Exclusive training & Q&A sessions with Dr. Matt\n					\n				\n			\n				\n				\n				\n				\n				\n					\n					\n						\n						Virtual Bonus #4: 2 Free Books by Dr. Matt James (sent as eBooks): Mental and Emotional Release® and Ho’oponopono*\n					\n				\n			\n				\n				\n				\n				\n				\n					\n					\n						\n						*Available 5 days after successful completion of the training\n					\n				\n			\n				Register Now $394\n			\n			\n				\n				\n				\n				\n			\n				\n				\n			\n				\n				\n				\n				\n				\n				\n				\n				\n				\n				\n				\n				\n				\n				\n				\n				\n				\n				Your Trainers\n			\n				\n				\n				\n				\n				\n			\n			\n				\n				\n				\n				\n			\n				\n				\n				\n				\n				\n				\n				\n				\n				\n				\n				\n					\n					\n						\n						Dr. Matt James\nMaster Trainer of NLP; MA\, Organizational Management; PhD\, Integrative Health Psychology \nTrainer(s) are subject to change. \n					\n				\n			\n				\n				\n				\n				\n				Trainer's Bio\n				Dr Matt James\, Owner of Empowerment\, Inc.\, embodies the principles he teaches. While devoting himself to the integrity of his spiritual path\, Dr. Matt has built an international firm dedicated to personal transformation\, authored several books\, and trained thousands of students every year in mastery of the four bodies of empowerment with the support of his team of expert trainers. Throughout his work\, Dr. Matt weaves effective modern technologies with the timeless wisdom of ancient spiritual paths. \nDr. Matt began meditating at the age of five\, and through his childhood learned spiritual practices directly from such teachers as Baba Muktananda. He also studied Huna\, the original science of consciousness of the Hawaiian Islands\, from Uncle George Na’ope who was honored as one of Hawaii’s Golden Living Treasures. Dr. Matt received the gift of carrying on one of the ancient lineages of Huna\, the Bray Family lineage\, from Hawaiian elders. \n			\n			\n				\n				\n				\n				\n			\n				\n				\n				\n				\n				\n				\n				Register Now $394\n			\n			\n				\n				\n				\n				\n			\n				\n				\n			\n				\n				\n				\n				\n				\n				\n				\n				\n				\n				\n				\n				\n				\n				\n				\n				\n				\n				Questions?\n			\n				\n				\n				\n				\n				\n			\n			\n				\n				\n				\n				\n			\n				\n				\n				\n				\n				\n				\n				\n				\n				\n				\n				What are the technical requirements?\n				1) A strong internet connection \n \n2) A laptop or desktop computer with camera and microphone abilities  (You will be required to be in conversation with other students during exercises.) \n \n3) Ability to login to Zoom  \n			\n				\n				\n				\n				\n				How do I get certified?\n				To qualify for certification\, you must be in attendance for the entire Virtual Integrative NLP Practitioner Certification Training. Upon completion of the training\, students will be emailed a link with the NLP Certification Test\, a 30-Step Action Plan\, and certifying board information. Once the test and 30-Step Action Plan has been completed\, it will need to be submitted directly to the certifying board\, the Association for Integrative Psychology (AIP)\, along with your certification fee of $125 USD. \n			\n			\n				\n				\n				\n				\n				\n				\n				\n				\n				\n				What's the training schedule?\n				All times listed are in local time (exact Time Zone TBD): \nThursday\, Date TBD: Day 1\n8:30 am to 9:00 am – Login\n9:00 am to 8:00 pm – Virtual Training \nFriday\, Date TBD: Day 2\n8:45 am to 9:00 am – Login*\n9:00 am to 8:00 pm – Virtual Training \nSaturday\, Date TBD: Day 3\n8:45 am to 9:00 am – Login*\n9:00 am to 8:00 pm – Virtual Training \nSunday\, Date TBD: Day 4\n8:45 am to 9:00 am – Login*\n9:00 am to 8:00 pm – Virtual Training \n*Please arrange your schedule to be available at 8:30 am each morning as you may need to arrive early for additional technology guidance.\n			\n				\n				\n				\n				\n				Will I receive a manual?\n				Absolutely! You will receive a digital copy of the full manual.\nThe trainers will be referring to the manual often\, and you will need to access it easily for exercises. To ensure the best possible experience for you and all students\, you are required to print the manual before the technical test on Wednesday and show it to the camera.
URL:https://trainings.nlp.com/training-schedule/integrative-nlp-practitioner-certification-live-virtual/
LOCATION:LIVE + VIRTUAL with Dr. Matt James
ATTACH;FMTTYPE=image/jpeg:https://trainings.nlp.com/wp-content/uploads/2024/01/NLP_header_21.jpg
END:VEVENT
END:VCALENDAR