BEGIN:VCALENDAR
VERSION:2.0
PRODID:-//NLP Training - ECPv6.15.18//NONSGML v1.0//EN
CALSCALE:GREGORIAN
METHOD:PUBLISH
X-WR-CALNAME:NLP Training
X-ORIGINAL-URL:https://trainings.nlp.com
X-WR-CALDESC:Events for NLP Training
REFRESH-INTERVAL;VALUE=DURATION:PT1H
X-Robots-Tag:noindex
X-PUBLISHED-TTL:PT1H
BEGIN:VTIMEZONE
TZID:UTC
BEGIN:STANDARD
TZOFFSETFROM:+0000
TZOFFSETTO:+0000
TZNAME:UTC
DTSTART:20250101T000000
END:STANDARD
END:VTIMEZONE
BEGIN:VEVENT
DTSTART;TZID=UTC:20261015T083000
DTEND;TZID=UTC:20261018T200000
DTSTAMP:20260421T120144
CREATED:20260212T105449Z
LAST-MODIFIED:20260410T234755Z
UID:10000050-1792053000-1792353600@trainings.nlp.com
SUMMARY:DENVER\, CO - Integrative NLP Practitioner Certification® Training
DESCRIPTION:DENVER\, CO\n			\n				\n				\n				\n				\n				Integrative NLP\nPractitioner Certification® Training\n			\n				\n				\n				\n				\n				October 15-18\, 2026\n			\n			\n				\n				\n				\n				\n			\n				\n				\n				\n				\n				\n				\n				Register Now $294\n			\n			\n				\n				\n				\n				\n				\n				\n				\n				\n				\n				$4795 Value\n			\n			\n				\n				\n				\n				\n				\n			\n				\n				\n				\n				\n			\n				\n				\n			\n				\n				\n				\n				\n				\n				\n				\n				\n				\n				\n				\n				\n				\n				\n				\n				\n				\n				\n					\n					\n						\n						 DATE\nCheck in:\nOctober 15\, 2026\n8:30am\n					\n				\n			\n			\n				\n				\n				\n				\n				\n				\n				\n				\n				\n				\n					\n					\n						\n						LOCATION\nDoubleTree by Hilton Denver – Westminster\n8773 Yates Dr.\nWestminster\, CO 80031\n					\n				\n			\n			\n				\n				\n				\n				\n				\n				\n				\n				\n				\n				\n					\n					\n						\n						TIMES\nThurs Training:\n8:45am – 8:00pm \nFri-Sun Trainings:\n9:00am – 8:00pm\n					\n				\n			\n			\n				\n				\n				\n				\n			\n				\n				\n			\n				\n				\n				\n				\n				\n				\n				\n				\n				\n				\n				\n				\n				\n				\n				\n				\n				\n				About This Event\n			\n				\n				\n				\n				\n				\n			\n				\n				\n				\n				\n				Described as a user manual for your conscious and unconscious mind\, neuro-linguistic programming is used by many successful people to bring about immediate and effective changes in life. Now\, Dr. Matt of Empowerment\, Inc. aims to equip the masses with these exceptional skills.\n			\n				\n				\n				\n				\n				Share this event: \n\n			\n			\n				\n				\n				\n				\n				\n				\n				\n				\n				\n				Know Before You Go\n			\n				\n				\n				\n				\n				\n			\n				\n				\n				\n				\n				At the Integrative NLP Practitioner Certification® Training\, you’ll receive hands-on training\, demonstrations\, tools and techniques\, and an action plan to put into practice as a certified practitioner following the sessions. Best of all\, sessions are backed by our 100%‑satisfaction guarantee. Speakers subject to change.\n			\n			\n				\n				\n				\n				\n			\n				\n				\n			\n				\n				\n				\n				\n				\n				\n				\n				\n				\n				\n				\n				\n				\n				\n				\n				\n				\n				\n			\n				Register Now $294\n			\n			\n				\n				\n				\n				\n				\n				\n				\n				\n				\n				What You’ll Receive\n			\n				\n				\n				\n				\n				\n			\n				\n				\n				\n				\n				At the Integrative NLP Practitioner Certification® Training\, you’ll receive hands-on training\, demonstrations\, tools and techniques\, and an action plan to put into practice as a certified practitioner following the sessions. Best of all\, sessions are backed by our 100%‑satisfaction guarantee. Speakers subject to change.\n			\n				\n				\n				\n				\n				\n					\n					\n						\n						NLP Training Course Material ($895 value for free)\n					\n				\n			\n				\n				\n				\n				\n				\n					\n					\n						\n						NLP Practitioner 45 MP3 Audio Collection ($375 value for free)*\n					\n				\n			\n				\n				\n				\n				\n				\n					\n					\n						\n						A Journey on the Timeline MP3 Audio ($25 value for free)*\n					\n				\n			\n				\n				\n				\n				\n				\n					\n					\n						\n						NLP Techniques Demo MP4 Videos ($30 value for free)*\n					\n				\n			\n				\n				\n				\n				\n				\n					\n					\n						\n						30-Step Action Plan ($175 value for free)*\n					\n				\n			\n				\n				\n				\n				\n				\n					\n					\n						\n						Access to our NLP Practitioner Alumni Facebook Community*\n					\n				\n			\n				\n				\n				\n				\n				\n					\n					\n						\n						*Available 5 days after training\n					\n				\n			\n				Register Now $294\n			\n			\n				\n				\n				\n				\n			\n				\n				\n			\n				\n				\n				\n				\n				\n				\n				\n				\n				\n				\n				\n				\n				\n				\n				\n				\n				\n				Your Trainers\n			\n				\n				\n				\n				\n				\n			\n			\n				\n				\n				\n				\n			\n				\n				\n				\n				\n				\n				\n				\n				\n				\n				\n				\n			\n				\n				\n				\n				\n				\n					\n					\n						\n						Dr. Matt James\nMaster Trainer of NLP; MA\, Organizational Management; PhD\, Integrative Health Psychology \nTrainer(s) are subject to change.\n					\n				\n			\n				\n				\n				\n				\n				Trainer's Bio\n				Dr Matt James\, Owner of Empowerment\, Inc.\, embodies the principles he teaches. While devoting himself to the integrity of his spiritual path\, Dr. Matt has built an international firm dedicated to personal transformation\, authored several books\, and trained thousands of students every year in mastery of the four bodies of empowerment with the support of his team of expert trainers. Throughout his work\, Dr. Matt weaves effective modern technologies with the timeless wisdom of ancient spiritual paths. \nDr. Matt began meditating at the age of five\, and through his childhood learned spiritual practices directly from such teachers as Baba Muktananda. He also studied Huna\, the original science of consciousness of the Hawaiian Islands\, from Uncle George Na’ope who was honored as one of Hawaii’s Golden Living Treasures. Dr. Matt received the gift of carrying on one of the ancient lineages of Huna\, the Bray Family lineage\, from Hawaiian elders.\n			\n			\n				\n				\n				\n				\n			\n				\n				\n				\n				\n				\n				\n				Register Now $294\n			\n			\n				\n				\n				\n				\n			\n				\n				\n			\n				\n				\n				\n				\n				\n				\n				\n				\n				\n				\n				\n				\n				\n				\n				\n				\n				\n				Our Promise\n			\n				\n				\n				\n				\n				\n			\n				\n				\n				\n				\n				We want you to be satisfied and richly rewarded with every investment you make with us. \nOur Neuro Linguistic Programming (NLP)\, Time Empowerment™ Techniques (now known as Mental and Emotional Release® (MER)\, Hypnosis\, and Ancient Hawaiian Huna training and digital products are totally guaranteed. \nIf you are not completely happy with your order\, connect with our team within 3 days of your purchase. \nFor full details about our guarantee\, please click here.
URL:https://trainings.nlp.com/training-schedule/denver-co-integrative-nlp-practitioner-certification-training-2/
LOCATION:DoubleTree by Hilton Denver – Westminster\, 8773 Yates Dr.\, Westminster\, CO\, 80031\, United States
ATTACH;FMTTYPE=image/jpeg:https://trainings.nlp.com/wp-content/uploads/2024/02/NLP_Header_Denver.jpg
END:VEVENT
END:VCALENDAR