BEGIN:VCALENDAR
VERSION:2.0
PRODID:-//NLP Training - ECPv6.15.18//NONSGML v1.0//EN
CALSCALE:GREGORIAN
METHOD:PUBLISH
X-ORIGINAL-URL:https://trainings.nlp.com
X-WR-CALDESC:Events for NLP Training
REFRESH-INTERVAL;VALUE=DURATION:PT1H
X-Robots-Tag:noindex
X-PUBLISHED-TTL:PT1H
BEGIN:VTIMEZONE
TZID:UTC
BEGIN:STANDARD
TZOFFSETFROM:+0000
TZOFFSETTO:+0000
TZNAME:UTC
DTSTART:20250101T000000
END:STANDARD
END:VTIMEZONE
BEGIN:VEVENT
DTSTART;TZID=UTC:20260820T083000
DTEND;TZID=UTC:20260823T200000
DTSTAMP:20260421T114028
CREATED:20260212T103304Z
LAST-MODIFIED:20260408T185310Z
UID:10000048-1787214600-1787515200@trainings.nlp.com
SUMMARY:ATLANTIC CITY\, NJ - Integrative NLP Practitioner Certification® Training
DESCRIPTION:ATLANTIC CITY\, NJ\n			\n				\n				\n				\n				\n				Integrative NLPPractitioner Certification® Training\n			\n				\n				\n				\n				\n				August 20-23\, 2026\n			\n			\n				\n				\n				\n				\n			\n				\n				\n				\n				\n				\n				\n				Register Now $294\n			\n			\n				\n				\n				\n				\n				\n				\n				\n				\n				\n				$4795 Value\n			\n			\n				\n				\n				\n				\n				\n			\n				\n				\n				\n				\n			\n				\n				\n			\n				\n				\n				\n				\n				\n				\n				\n				\n				\n				\n				\n				\n				\n				\n				\n				\n				\n				\n					\n					\n						\n						 DATE\nCheck in:\nAugust 20\, 20268:30am \n					\n				\n			\n			\n				\n				\n				\n				\n				\n				\n				\n				\n				\n				\n					\n					\n						\n						LOCATION\nAtlantic City Convention Center\nOne Convention BoulevardAtlantic City\, NJ 08401 \nVenue subject to change. \n					\n				\n			\n			\n				\n				\n				\n				\n				\n				\n				\n				\n				\n				\n					\n					\n						\n						TIMES\nThurs Training:\n8:45am – 8:00pm \nFri-Sun Trainings:\n9:00am – 8:00pm\n					\n				\n			\n			\n				\n				\n				\n				\n			\n				\n				\n			\n				\n				\n				\n				\n				\n				\n				\n				\n				\n				\n				\n				\n				\n				\n				\n				\n				\n				About This Event\n			\n				\n				\n				\n				\n				\n			\n				\n				\n				\n				\n				Described as a user manual for your conscious and unconscious mind\, neuro-linguistic programming is used by many successful people to bring about immediate and effective changes in life. Now\, Dr. Matt of Empowerment\, Inc. aims to equip the masses with these exceptional skills.\n			\n				\n				\n				\n				\n				Share this event: \n\n			\n			\n				\n				\n				\n				\n				\n				\n				\n				\n				\n				Know Before You Go\n			\n				\n				\n				\n				\n				\n			\n				\n				\n				\n				\n				At the Integrative NLP Practitioner Certification® Training\, you’ll receive hands-on training\, demonstrations\, tools and techniques\, and an action plan to put into practice as a certified practitioner following the sessions. Best of all\, sessions are backed by our 100%‑satisfaction guarantee. Speakers subject to change.\n			\n			\n				\n				\n				\n				\n			\n				\n				\n			\n				\n				\n				\n				\n				\n				\n				\n				\n				\n				\n				\n				\n				\n				\n				\n				\n				\n				\n			\n				Register Now $294\n			\n			\n				\n				\n				\n				\n				\n				\n				\n				\n				\n				What You’ll Receive\n			\n				\n				\n				\n				\n				\n			\n				\n				\n				\n				\n				At the Integrative NLP Practitioner Certification® Training\, you’ll receive hands-on training\, demonstrations\, tools and techniques\, and an action plan to put into practice as a certified practitioner following the sessions. Best of all\, sessions are backed by our 100%‑satisfaction guarantee. Speakers subject to change.\n			\n				\n				\n				\n				\n				\n					\n					\n						\n						NLP Training Course Material ($895 value for free)\n					\n				\n			\n				\n				\n				\n				\n				\n					\n					\n						\n						NLP Practitioner 45 MP3 Audio Collection ($375 value for free)*\n					\n				\n			\n				\n				\n				\n				\n				\n					\n					\n						\n						A Journey on the Timeline MP3 Audio ($25 value for free)*\n					\n				\n			\n				\n				\n				\n				\n				\n					\n					\n						\n						NLP Techniques Demo MP4 Videos ($30 value for free)*\n					\n				\n			\n				\n				\n				\n				\n				\n					\n					\n						\n						30-Step Action Plan ($175 value for free)*\n					\n				\n			\n				\n				\n				\n				\n				\n					\n					\n						\n						Access to our NLP Practitioner Alumni Facebook Community*\n					\n				\n			\n				\n				\n				\n				\n				\n					\n					\n						\n						*Available 5 days after training\n					\n				\n			\n				Register Now $294\n			\n			\n				\n				\n				\n				\n			\n				\n				\n			\n				\n				\n				\n				\n				\n				\n				\n				\n				\n				\n				\n				\n				\n				\n				\n				\n				\n				Your Trainers\n			\n				\n				\n				\n				\n				\n			\n			\n				\n				\n				\n				\n			\n				\n				\n				\n				\n				\n				\n				\n				\n				\n				\n				\n					\n					\n						\n						\n\nMandi Pratte\nTrainer of NLP \nTrainer(s) are subject to change. \n\n\n					\n				\n			\n				\n				\n				\n				\n				Trainer's Bio\n				\n\nMandi Pratte\, Trainer of NLP\, has become one of our most popular trainers. She is passionate about empowering others to embrace their potential and attain their goals\, while inspiring them to make a positive contribution. \n“What excites me most about the work I do is that\, when you help empower someone to be who they are meant to be\, you can see the ripple effect of good they do and how they positively impact others they touch. Empowerment is contagious.” \nMandi has been a business owner for 20 years\, ranking as one of the Top Realtors® in the country for 8 years straight. She has also performed as an Integrative NLP Coach for 12 years\, helping hundreds of people achieve the results they desire in both their business and personal lives. \nCommitted to making a positive impact\, Mandi has worked tirelessly for the wellbeing of others. She has been acknowledged by the “Woman Who Moves the Valley” award in Arizona for her philanthropic work and leadership in her community. Mandi is particularly proud of a nonprofit she formed that encourages youth to connect to their purpose and gives them leadership and communication skills so they can make a positive impact. The youth in this program have raised funds for Phoenix Children Hospital\, Make a Wish\, at risk youth programs\, and other organizations. \nMandi’s belief that “Anything is possible” is also reflected in her athletic endeavors. She regularly pushes herself physically\, participating in full and half Ironman competitions and marathons. As a mother\, she understands the importance of leaving a legacy for her children by embodying what she teaches in all areas of her life. \n“For me\, personal growth and empowerment is a life path. I am thrilled to be working with Empowerment\, Inc. where I get to see so many lives transformed!” \n\n\n			\n			\n				\n				\n				\n				\n			\n				\n				\n				\n				\n				\n				\n				Register Now $294\n			\n			\n				\n				\n				\n				\n			\n				\n				\n			\n				\n				\n				\n				\n				\n				\n				\n				\n				\n				\n				\n				\n				\n				\n				\n				\n				\n				Our Promise\n			\n				\n				\n				\n				\n				\n			\n				\n				\n				\n				\n				We want you to be satisfied and richly rewarded with every investment you make with us. \nOur Neuro Linguistic Programming (NLP)\, Time Empowerment™ Techniques (now known as Mental and Emotional Release® (MER)\, Hypnosis\, and Ancient Hawaiian Huna training and digital products are totally guaranteed. \nIf you are not completely happy with your order\, connect with our team within 3 days of your purchase. \nFor full details about our guarantee\, please click here.
URL:https://trainings.nlp.com/training-schedule/atlantic-city-nj-integrative-nlp-practitioner-certification-training-2/
LOCATION:Atlantic City Convention Center\, One Convention Boulevard\, Atlantic City\, NJ\, 08401\, United States
ATTACH;FMTTYPE=image/webp:https://trainings.nlp.com/wp-content/uploads/2024/05/NLP_Atlantic_City_Header.webp
END:VEVENT
END:VCALENDAR